BEGIN:VCALENDAR
VERSION:2.0
PRODID:-//Unternehmerring Schwalm-Eder-West e.V. - ECPv6.3.7//NONSGML v1.0//EN
CALSCALE:GREGORIAN
METHOD:PUBLISH
X-ORIGINAL-URL:https://unternehmerring-schwalm-eder-west.de
X-WR-CALDESC:Veranstaltungen für Unternehmerring Schwalm-Eder-West e.V.
REFRESH-INTERVAL;VALUE=DURATION:PT1H
X-Robots-Tag:noindex
X-PUBLISHED-TTL:PT1H
BEGIN:VTIMEZONE
TZID:Europe/Berlin
BEGIN:DAYLIGHT
TZOFFSETFROM:+0100
TZOFFSETTO:+0200
TZNAME:CEST
DTSTART:20180325T010000
END:DAYLIGHT
BEGIN:STANDARD
TZOFFSETFROM:+0200
TZOFFSETTO:+0100
TZNAME:CET
DTSTART:20181028T010000
END:STANDARD
BEGIN:DAYLIGHT
TZOFFSETFROM:+0100
TZOFFSETTO:+0200
TZNAME:CEST
DTSTART:20190331T010000
END:DAYLIGHT
BEGIN:STANDARD
TZOFFSETFROM:+0200
TZOFFSETTO:+0100
TZNAME:CET
DTSTART:20191027T010000
END:STANDARD
END:VTIMEZONE
BEGIN:VEVENT
DTSTART;TZID=Europe/Berlin:20190226T193000
DTEND;TZID=Europe/Berlin:20190226T230000
DTSTAMP:20260424T172505
CREATED:20190122T123736Z
LAST-MODIFIED:20190122T123736Z
UID:1215-1551209400-1551222000@unternehmerring-schwalm-eder-west.de
SUMMARY:Benefizkonzert mit dem Heeresmusikkorps
DESCRIPTION:Borken. Ein Musikgenuss der besonderen Art wartet auf die Besucher am 26. Februar 2019. Dann gastiert um 19:30 Uhr im Hotel am Stadtpark – Bürgerhaus der Stadt Borken das Heeresmusikkorps Kassel zu einem Benefizkonzert. Der Stadt Borken ist es erneut gelungen\, das weltbekannte Blasorchester unter der Leitung von Oberstleutnant Tobias Terhardt für ein Benefizkonzert in Borken zu gewinnen. Für Bürgermeister Marcel Pritsch-Rehm war es eine Selbstverständlichkeit\, Gastgeber und Schirmherr für die Frauen und Männer des Heeresmusikkorps Kassel zu sein.
URL:https://unternehmerring-schwalm-eder-west.de/event/benefizkonzert-mit-dem-heeresmusikkorps/
LOCATION:Hotel am Stadtpark – Bürgerhaus der Stadt Borken\, Europaplatz 3\, Borken\, 34582
ATTACH;FMTTYPE=image/jpeg:https://unternehmerring-schwalm-eder-west.de/wp-content/uploads/2019/01/Ankündigung-Konzert-Heeresmusikkorps-KS.jpg
ORGANIZER;CN="Stadt Borken (Hessen)":MAILTO:stadtverwaltung@borken-hessen.de
END:VEVENT
BEGIN:VEVENT
DTSTART;VALUE=DATE:20181214
DTEND;VALUE=DATE:20181217
DTSTAMP:20260424T172505
CREATED:20180813T134237Z
LAST-MODIFIED:20181105T114258Z
UID:640-1544745600-1545004799@unternehmerring-schwalm-eder-west.de
SUMMARY:Borkener Weihnachtsmarkt
DESCRIPTION:Foto: (c) H.J.Pfaff \nTraditioneller Borkener Weihnachtsmarkt in der Altstadt von Borken. Aktuelle Informationen zum Weihnachtsmarkt erhalten Sie über diesen Verweis: https://unternehmerring-schwalm-eder-west.de/tag/weihnachtsmarkt/
URL:https://unternehmerring-schwalm-eder-west.de/event/borkener-weihnachtsmarkt/
LOCATION:Marktplatz/ Altstadt\, Marktplatz/ Altstadt\, Borken (Hessen)\, 34582
ATTACH;FMTTYPE=image/jpeg:https://unternehmerring-schwalm-eder-west.de/wp-content/uploads/2018/08/PC157165.jpg
ORGANIZER;CN="Stadt Borken (Hessen) und Unternehmerring Schwalm-Eder-West e.V":MAILTO:stadtverwaltung@borken-hessen.de
END:VEVENT
BEGIN:VEVENT
DTSTART;TZID=Europe/Berlin:20181026T180000
DTEND;TZID=Europe/Berlin:20181026T220000
DTSTAMP:20260424T172505
CREATED:20180813T135416Z
LAST-MODIFIED:20180813T140114Z
UID:646-1540576800-1540591200@unternehmerring-schwalm-eder-west.de
SUMMARY:Herbst- und Familienfest im Themenpark Kohle und Energie
DESCRIPTION:Foto (c) H.J.Pfaff \nAn diesem Abend treiben Hexen\, Magier\, Zauberer und Halloweengestalten im Themenpark ihr Unwesen. Die Bergbaubagger\, Lokomotiven und Kraftwerksgeräte werden kunstvoll beleuchtetet und schaffen eine beeindruckende Kulisse für die „Industriekultur bei Nacht”. Für Kinder gibt es eine kreative Geister- und Gespensterolympiade. \nEintritt: Kinder 2\,00 €; Erwachsene 4\,00 €\, verkleidete Kinder haben freien Eintritt. Die Besucherbahn fährt für alle kostenlos. \n\nfür Familien besonders geeignet\nkeine Anmeldung erforderlich
URL:https://unternehmerring-schwalm-eder-west.de/event/herbst-und-familienfest-im-themenpark-kohle-und-energie/
LOCATION:Hessisches Braunkohle Bergbaumuseum Themenpark Kohle & Energie\, Am Freilichtmuseum 1\, Borken (Hessen)\, 34582
ATTACH;FMTTYPE=image/jpeg:https://unternehmerring-schwalm-eder-west.de/wp-content/uploads/2018/08/Hans_Juergen-Pfaff_PA289698.jpg
ORGANIZER;CN="Hessisches Braunkohle Bergbaumuseum":MAILTO:bergbaumuseum@borken-hessen.de
END:VEVENT
BEGIN:VEVENT
DTSTART;TZID=Europe/Berlin:20181026T160000
DTEND;TZID=Europe/Berlin:20181026T233000
DTSTAMP:20260424T172505
CREATED:20180813T133042Z
LAST-MODIFIED:20181004T130043Z
UID:636-1540569600-1540596600@unternehmerring-schwalm-eder-west.de
SUMMARY:14. Borkener Halloween-Nacht
DESCRIPTION:Foto (c) H.J.Pfaff \nDie Innenstadt verwandelt sich in eine fantasievolle Halloween-Kulisse\, in der Spukgestalten\, Hexen und Magier ihr Unwesen treiben. Musikalische Beiträge\, Aktionen und Kleinkunst gehören zum Programm. Vielfältiges Angebot an Speisen und Getränken und Einkaufen bis 24:00 Uhr. \nDie Veranstaltung findet in der Bahnhofstraße Borken statt.
URL:https://unternehmerring-schwalm-eder-west.de/event/14-borkener-halloween-nacht/
LOCATION:Bahnhofstraße\, Borken (Hessen)\, 34582
ATTACH;FMTTYPE=image/jpeg:https://unternehmerring-schwalm-eder-west.de/wp-content/uploads/2018/08/PA289665.jpg
END:VEVENT
BEGIN:VEVENT
DTSTART;TZID=Europe/Berlin:20180930T100000
DTEND;TZID=Europe/Berlin:20180930T180000
DTSTAMP:20260424T172505
CREATED:20180813T132633Z
LAST-MODIFIED:20180813T141215Z
UID:633-1538301600-1538330400@unternehmerring-schwalm-eder-west.de
SUMMARY:8. Nordhesssische Wecke- un Worschtmarkt
DESCRIPTION:Foto: (c) H.J.Pfaff \nEin erfolgreiches Marktkonzept geht am 30. September 2018 von 10:00 Uhr bis 18:00 Uhr in die achte Runde. Er ist schon eine Traditionsveranstaltung geworden mit einer sehr hohen Besucherfrequenz. Als Brat- und Wurstmarkt hatte das Erfolgsrezept im Jahr 2007 begonnen. Die Firma „Catering und Konzepte“ hatte ein neues Konzept entwickelt und dabei dann auch 2008 die Fleischerinnung Schwalm-Eder mit ins Boot genommen. Als in 2012 die Bäckerinnung dazu kam\, ließ sich der Erfolg tatsächlich noch steigern. Der Wecke- un Worschtmarkt ist nicht nur der inzwischen erfolgreichste Markt in Borken (Hessen)\, sondern zählt in dieser Art – bereits bei der sechsten Auflage – zu den bestbesuchten kulinarischen Märkten in ganz Nordhessen. Und aus ganz Nordhessen kommen auch die Gäste\, was anhand der Adressen bei der Verlosung stets deutlich wird. Auch wurde dieser Markt vom Hessischen Fernsehen unter den besten 30 Hessischen Märkten erwähnt. Das anspruchsvolle Publikum im mittleren Alter weiß die Qualität der angebotenen hochwertigen Waren sehr zu schätzen und ist deshalb auch gerne bereit\, einen angemessener Preis für ihre Ware zu bezahlen \nDer Markt findet auf dem Marktplatz\, vor der ev Stadtkirche und Altstadtbereich statt.
URL:https://unternehmerring-schwalm-eder-west.de/event/8-nordhesssische-wecke-un-worschtmarkt/
LOCATION:Marktplatz/ Altstadt\, Marktplatz/ Altstadt\, Borken (Hessen)\, 34582
ATTACH;FMTTYPE=image/jpeg:https://unternehmerring-schwalm-eder-west.de/wp-content/uploads/2018/08/IMG_6481.jpg
ORGANIZER;CN="Gastronomieservice Berthold Schreiner":MAILTO:info@wecke-un-worschtmarkt.de
END:VEVENT
BEGIN:VEVENT
DTSTART;TZID=Europe/Berlin:20180914T193000
DTEND;TZID=Europe/Berlin:20180914T220000
DTSTAMP:20260424T172505
CREATED:20180830T083950Z
LAST-MODIFIED:20180830T084050Z
UID:724-1536953400-1536962400@unternehmerring-schwalm-eder-west.de
SUMMARY:Marie Seferian Quartett “Khalil & May” Berlin
DESCRIPTION:Charmant lässt Marie ihre Stimme in einer Weise jubilieren\, wie man es lange nicht mehr so überzeugend im deutschen Jazz hören konnte. “Khalil & May” ist das neue Album des Marie Seferian Quartetts und behandelt die platonische Liebe der libanesischen Lyriker Khalil Gibran und May Ziade. \nEine musikalische Reise durch Schmerz\, Liebe und Naturgewalt\, die in dem Zuhörer lange nachhallt. So hat der Bassist Tim Kleinsorge\, der gemeinsam mit dem Schlagzeuger Javier Reyews bereits ein langer Weggefährte Seferians ist \, sich Gibrans Text “Die Hochzeit” angenommen. \nMarie Seferian verfügt über ein breites Ausdrucksspektrum. Die gebürtige Münsteranerin\, die deutsch -französische Wurzeln hat\, hat Berlin zu Ihrer Wahlheimat gemacht. Niko Meinhold (Piano)\, Tim Kleinsorge (Bass) und Javier Reyes (Schlagzeug) breiten ihrer Sängerin einen farbenreichen Klangteppich aus Gesang und Instrumenten aus\, dem Marie Seferian mit delikater Stimmführung bravourös neue Konturen verleiht. Literatur und Musik verschmelzen hier und so ist die junge Dame mit ihren drei Weggefährten unzweifelhaft eine Bereicherung für den europäischen Jazz. \nMarie Seferian Vocals\nNiko Meinhold Piano\nTim Kleinsorge (Schäfer ) Bass\nJavier Reyes Drums \nEintritt ist frei!\nEs wird um eine Spende für die weitere Arbeit des Quartetts gebeten.
URL:https://unternehmerring-schwalm-eder-west.de/event/marie-seferian-quartett-khalil-may-berlin/
LOCATION:Ev Stadtkirche Borken\, Kirchstraße\, Borken (Hessen)\, 34582
ATTACH;FMTTYPE=image/jpeg:https://unternehmerring-schwalm-eder-west.de/wp-content/uploads/2018/08/marie.jpg
END:VEVENT
BEGIN:VEVENT
DTSTART;TZID=Europe/Berlin:20180908T090000
DTEND;TZID=Europe/Berlin:20180908T170000
DTSTAMP:20260424T172505
CREATED:20180813T131617Z
LAST-MODIFIED:20180813T142315Z
UID:628-1536397200-1536426000@unternehmerring-schwalm-eder-west.de
SUMMARY:Straßenmarkt
DESCRIPTION:Foto: (c) H.J.Pfaff \nTraditioneller Straßenmarkt in der Borkener Innenstadt. Eine Straße von Borkenern für Besucher aus der Region. Live-Musik und vielem mehr… Der Markt findet in der Bahnhofstraße Borken statt und ist während der Veranstaltung für den KFZ-Verkehr gesperrt.
URL:https://unternehmerring-schwalm-eder-west.de/event/strassenmarkt/
LOCATION:Bahnhofstraße\, Borken (Hessen)\, 34582
ATTACH;FMTTYPE=image/jpeg:https://unternehmerring-schwalm-eder-west.de/wp-content/uploads/2018/08/P9101017.jpg
ORGANIZER;CN="Unternehmerring Schwalm-Eder-West e.V.":MAILTO:info@ur-sew.de
END:VEVENT
BEGIN:VEVENT
DTSTART;TZID=Europe/Berlin:20180907T140000
DTEND;TZID=Europe/Berlin:20180909T180000
DTSTAMP:20260424T172505
CREATED:20180813T125753Z
LAST-MODIFIED:20180815T190739Z
UID:623-1536328800-1536516000@unternehmerring-schwalm-eder-west.de
SUMMARY:Stadtparkfest
DESCRIPTION:Der Hauptveranstaltungsort wird die Parkanlage hinter dem Rathaus und zwischen Parkhotel & Restaurant – Bürgerhaus und Stadtsparkasse sein. Eine überdachte Bühne vor der Rathausterrasse fügt sich in einen Bier- und Weingartenbereich ein. Ein Zelt\, welches zum Rathaus hin offen ist\, sorgt für die Sicherheit\, dass man sich bei möglicher schlechter Witterung unterstellen kann. Der gesamte Stadtpark wird mit Getränke- und Essensständen eingerahmt sein und so wird die Atmosphäre eines gemütlichen Wein- oder Biergartens vermittelt.
URL:https://unternehmerring-schwalm-eder-west.de/event/stadtparkfest/
LOCATION:Stadtpark in der Innenstadt\, Borken (Hessen)\, 34582\, Deutschland
ATTACH;FMTTYPE=image/jpeg:https://unternehmerring-schwalm-eder-west.de/wp-content/uploads/2018/08/Stadtfest1.jpg
ORGANIZER;CN="Stadt Borken (Hessen)":MAILTO:stadtverwaltung@borken-hessen.de
END:VEVENT
BEGIN:VEVENT
DTSTART;VALUE=DATE:20180907
DTEND;VALUE=DATE:20180909
DTSTAMP:20260424T172505
CREATED:20180813T131940Z
LAST-MODIFIED:20180813T141100Z
UID:631-1536278400-1536451199@unternehmerring-schwalm-eder-west.de
SUMMARY:Heimat shoppen
DESCRIPTION:Sechs gute Gründe warum Sie mit Ihrem Einkauf die Lebensqualität in Ihrer Region verbessern erfahren Sie am 07. + 08.09.2018 in Borken. \nWeitere Informationen unter dem Veranstaltungslink.
URL:https://unternehmerring-schwalm-eder-west.de/event/heimat-shoppen/
LOCATION:Borken (Hessen)\, Am Rathaus 7\, Borken (Hessen)\, Deutschland\, 34582\, Deutschland
ATTACH;FMTTYPE=image/jpeg:https://unternehmerring-schwalm-eder-west.de/wp-content/uploads/2018/08/cropped-heimat-shoppen-header1.jpg
ORGANIZER;CN="Unternehmerring Schwalm-Eder-West e.V.":MAILTO:info@ur-sew.de
END:VEVENT
END:VCALENDAR